BEGIN:VCALENDAR
VERSION:2.0
CREATED:20260422T182349Z
PRODID:-//Flux Power Holdings\, Inc./Equisolve Calendar v1.0//EN
METHOD:PUBLISH
BEGIN:VEVENT
UID:669fd0d8c58f9fe19db362597d4a4c8a
DTSTAMP:20260424T121529Z
DTSTART:20260507T203000Z
DTEND:20260507T213000Z
SUMMARY:FY 2026 Q3 Financial Results & Conference Call
DESCRIPTION:FY 2026 Q3 Financial Results & Conference Call
Date: May 7\, 2026 4:30 pm EDT
END:VEVENT
END:VCALENDAR
